BEGIN:VCALENDAR
VERSION:2.0
PRODID:-//peiq//peiq.de//DE
CALSCALE:GREGORIAN
BEGIN:VEVENT
DTSTART:20140830T000000
DTEND:20140830T235959
DTSTAMP:20260426T054049
URL;VALUE=URI:https://www.myheimat.de/event/74253
SUMMARY:Kindererlebniswoche vom 30.08.-06.09.2014
DESCRIPTION:Echte Hits für Kids, die Lust auf peppige Ferien haben - unsere Kindererlebniswoche in Dinkelscherben ist voll davon. AWO-Kreisverband und KJR Augsburg-Land wissen eben, was gut ankommt. Kunterbunte Aktionen, schillernde Partys und ulkige Spiele machen die Woche vom 30. August bis zum 6. September zum unvergesslichen Trip. Von unserem tollen Jugendhaus aus kannst Du den Naturpark „Augsburg-Westliche Wälder“ erforschen. Bei heißen Temperaturen lockt das nahe gelegene Freibad. In den kühleren Abendstunden gib
LOCATION:Burggasse 100\, \n86424\, \nDinkelscherben
UID:PEIQ-PMK2-EVENT-74253-0-0@www.myheimat.de
END:VEVENT
END:VCALENDAR
