BEGIN:VCALENDAR
VERSION:2.0
PRODID:-//peiq//peiq.de//DE
CALSCALE:GREGORIAN
BEGIN:VEVENT
DTSTART:20160802T133000
DTEND:20160802T153000
DTSTAMP:20260426T054049
URL;VALUE=URI:https://www.myheimat.de/event/53901
SUMMARY:Geschicklichkeits-Parcours mit dem Fahrrad
DESCRIPTION:Di, 02.08.2016 13:30 - 15:30 Wir fahren einen Geschicklichkeits-Parcours mit dem Fahrrad und anschließend gibt es eine Urkunden- und Preisverleihung. Der Ersatztermin bei schlechtem Wetter ist Donnerstag, 04.08. (gleiche Uhrzeit). Getränke (ausschließlich alkoholfrei!) können für 0,50 Euro vor Ort gekauft werden. Anmeldung vor Ort ab 13.30 Uhr - 14.30 Uhr. Fahrradhelm ist Pflicht! Treffpunkt Parkplatz der Begegnungsstätte der AWO, Füssenerstr. 121 a in Königsbrunn
LOCATION:AWO Begegnungsstätte \, \n86343\, \nKönigsbrunn
UID:PEIQ-PMK2-EVENT-53901-0-0@www.myheimat.de
END:VEVENT
END:VCALENDAR
