BEGIN:VCALENDAR
VERSION:2.0
PRODID:-//peiq//peiq.de//DE
CALSCALE:GREGORIAN
BEGIN:VEVENT
DTSTART:20250308T140000
DTEND:20250308T170000
DTSTAMP:20260426T040552
URL;VALUE=URI:https://www.myheimat.de/event/320712
SUMMARY:Stricklieseln Königsbrunn zu Gast beim Internationalen Bobinger Frauentag
DESCRIPTION:Zum ersten Mal mit dabei beim Internationalen Bobinger Frauentag sind dieses Jahr die Stricklieseln Königsbrunn. Im Gepäck haben sie selbst gefertigte Handarbeiten, die gegen Spende erworben werden können.                                                    Die Spendensumme geht zu 100% an den Hospizverein Bobingen. Die Stricklieseln engagieren sich ehrenamtlich für ein besseres Miteinander. In diesem Sinne kooperieren sie mit Bobingen. So könnt ihr gleich zweimal Gutes tun: Eine Handarbeit für euch und eine
LOCATION:Singoldhalle\, \nBobingen
UID:PEIQ-PMK2-EVENT-320712-0-0@www.myheimat.de
END:VEVENT
END:VCALENDAR
