BEGIN:VCALENDAR
VERSION:2.0
PRODID:-//peiq//peiq.de//DE
CALSCALE:GREGORIAN
BEGIN:VEVENT
DTSTART:20191109T140000
DTEND:20191109T160000
DTSTAMP:20260426T040703
URL;VALUE=URI:https://www.myheimat.de/event/21522
SUMMARY:AWO - Flohmarkt für Weihnachtsdekoration
DESCRIPTION:… am  09.11.2019 von 14.00 – 16.00 Uhr in der AWO Begegnungsstätte Füssener Str. 121a, 86343 Königsbrunn Gekauft werden kann alles, was Ihr Zuhause an Weihnachten schöner macht wie Christbaumkugeln, Baumschmuck, Weihnachtsfiguren, weihnachtliche Gartendekoration, Sterne, Weihnachts-CD's, u.v.m.... Um ein bisschen auf Weihnachten einzustimmen, bieten wir während des Flohmarktes Glühwein und Punsch, sowie Kaffee und Kuchen an.
LOCATION:AWO Begegnungsstätte \, \n86343\, \nKönigsbrunn
UID:PEIQ-PMK2-EVENT-21522-0-0@www.myheimat.de
END:VEVENT
END:VCALENDAR
