BEGIN:VCALENDAR
VERSION:2.0
PRODID:-//peiq//peiq.de//DE
CALSCALE:GREGORIAN
BEGIN:VEVENT
DTSTART:20110307T150000
DTEND:20110307T170000
DTSTAMP:20260424T000826
URL;VALUE=URI:https://www.myheimat.de/event/138150
SUMMARY:Hannover: Bunt und laut in der Nordstadt
DESCRIPTION:Wild verkleidet und laut trommelnd ziehen am Rosenmontag, 7. März, die Nordstädter Kinder durch die Straßen und feiern laut ihren „Karneval der Kinder“. Das Familienzentrum Hannover-Nordstadt, der Schülerladen Rambo Zambo und die Bürgerschule (Stadtteil-Zentrum Nordstadt) laden dazu alle kleinen und großen Kinder herzlich ein. Phantasievoll verkleidet und fröhlich eingestimmt begibt sich der Umzug um 15 Uhr vom Klaus-Müller-Kilian-Weg aus auf seinen Weg durch die Nordstädter Straßen. Angeführt wird das bunt
LOCATION:Bürgerschule - Stadtteilzentrum Nordstadt\, \n30167\, \nHannover
UID:PEIQ-PMK2-EVENT-138150-0-0@www.myheimat.de
END:VEVENT
END:VCALENDAR
